BEGIN:VCALENDAR
VERSION:2.0
PRODID:-//Tukios.com/
BEGIN:VEVENT
UID:aea865d1-15d1-4b51-8c8a-2bd9b796e1c7@www.carmichael-whatley.com
DTSTAMP:20260421T223203Z
DTSTART:20260425T190000Z
DTEND:20260425T200000Z
SUMMARY:Memorial Service
DESCRIPTION:
URL:https://www.carmichael-whatley.com/obituaries/jennifer-beard
LOCATION: 600 N Ward St  Pampa TX 79065
GEO:35.5384723;-100.9711855
END:VEVENT
END:VCALENDAR