BEGIN:VCALENDAR
VERSION:2.0
PRODID:-//Tukios.com/
BEGIN:VEVENT
UID:9a74109b-3065-4b4e-84a3-af5bd5f69721@www.carmichael-whatley.com
DTSTAMP:20260422T225445Z
DTSTART:20260606T160000Z
DTEND:20260606T170000Z
SUMMARY:Graveside Service
DESCRIPTION:
URL:https://www.carmichael-whatley.com/obituaries/mike-sells
LOCATION:Fairview Cemetery 1500 Duncan St  Pampa TX 79065
GEO:35.5528918;-100.9627631
END:VEVENT
END:VCALENDAR