BEGIN:VCALENDAR
VERSION:2.0
PRODID:-//Tukios.com/
BEGIN:VEVENT
UID:70bbfe66-f011-4e55-aa81-b99ee0aaf919@www.carmichael-whatley.com
DTSTAMP:20260422T213517Z
DTSTART:20260423T190000Z
DTEND:20260424T010000Z
SUMMARY:Viewing
DESCRIPTION:
URL:https://www.carmichael-whatley.com/obituaries/norma-bolch
LOCATION: 600 N Ward St  Pampa TX 79065
GEO:35.538861;-100.97116
END:VEVENT
END:VCALENDAR