BEGIN:VCALENDAR
VERSION:2.0
PRODID:-//Tukios.com/
BEGIN:VEVENT
UID:53cee8f1-27d3-49a9-84f0-c9a961471ccc@www.carmichael-whatley.com
DTSTAMP:20260422T213439Z
DTSTART:20260424T130000Z
DTEND:20260425T010000Z
SUMMARY:Viewing
DESCRIPTION:
URL:https://www.carmichael-whatley.com/obituaries/norma-bolch
LOCATION: 600 N Ward St  Pampa TX 79065
GEO:35.538861;-100.97116
END:VEVENT
END:VCALENDAR