BEGIN:VCALENDAR
VERSION:2.0
PRODID:-//Tukios.com/
BEGIN:VEVENT
UID:16ee3055-b20e-4fae-82fb-7847c7366b27@www.carmichael-whatley.com
DTSTAMP:20260422T213851Z
DTSTART:20260424T230000Z
DTEND:20260425T000000Z
SUMMARY:Visitation
DESCRIPTION:
URL:https://www.carmichael-whatley.com/obituaries/norma-bolch
LOCATION: 600 N Ward St  Pampa TX 79065
GEO:35.538861;-100.97116
END:VEVENT
END:VCALENDAR