BEGIN:VCALENDAR
VERSION:2.0
PRODID:-//Tukios.com/
BEGIN:VEVENT
UID:4f41c6b7-dd7a-4b08-88d6-92e4e3d27b40@www.carmichael-whatley.com
DTSTAMP:20260422T213850Z
DTSTART:20260425T150000Z
DTEND:20260425T160000Z
SUMMARY:Funeral Service
DESCRIPTION:
URL:https://www.carmichael-whatley.com/obituaries/norma-bolch
LOCATION: 513 E Francis Ave  Pampa TX 79065
GEO:35.5405087;-100.9580064
END:VEVENT
END:VCALENDAR